BEGIN:VCALENDAR
VERSION:2.0
PRODID:-//Trent Hills Public Library - ECPv6.15.18//NONSGML v1.0//EN
CALSCALE:GREGORIAN
METHOD:PUBLISH
X-WR-CALNAME:Trent Hills Public Library
X-ORIGINAL-URL:https://trenthillslibrary.ca
X-WR-CALDESC:Events for Trent Hills Public Library
REFRESH-INTERVAL;VALUE=DURATION:PT1H
X-Robots-Tag:noindex
X-PUBLISHED-TTL:PT1H
BEGIN:VTIMEZONE
TZID:UTC
BEGIN:STANDARD
TZOFFSETFROM:+0000
TZOFFSETTO:+0000
TZNAME:UTC
DTSTART:20250101T000000
END:STANDARD
END:VTIMEZONE
BEGIN:VEVENT
DTSTART;TZID=UTC:20260211T140000
DTEND;TZID=UTC:20260311T140000
DTSTAMP:20260423T161431
CREATED:20260202T184429Z
LAST-MODIFIED:20260202T184429Z
UID:24345-1770818400-1773237600@trenthillslibrary.ca
SUMMARY:Author Spotlight Book Club
DESCRIPTION:Join this group of passionate readers in Campbellford as we dive deep into the works of one author each month. Email graeme.peters@trenthills.ca for more information and to register.
URL:https://trenthillslibrary.ca/event/author-spotlight-book-club-2-2-2-2-2-3-2-4-2-2-2-2-3-2-2-2-2-4-2-2-2-2-3-2-2-copy-copy-2-copy-copy-copy-copy-copy/
CATEGORIES:Campbellford Events
END:VEVENT
BEGIN:VEVENT
DTSTART;TZID=UTC:20260226T103000
DTEND;TZID=UTC:20260226T103000
DTSTAMP:20260423T161431
CREATED:20260202T161324Z
LAST-MODIFIED:20260202T161324Z
UID:24246-1772101800-1772101800@trenthillslibrary.ca
SUMMARY:Campbellford Storytime
DESCRIPTION:Join us in Campbellford for stories\, songs\, crafts\, and felt board fun! Ages 2-5.  Email brianne.hornsby@trenthills.ca to register.
URL:https://trenthillslibrary.ca/event/warkworth-preschool-storytime-4-3-5-8-3-5-5-2-4-6-2-2-4-2-5-4-2-3-4-5-5-6-3-4-3-3-2-4-2-2-6-5-5-5-5-5-5-copy-copy-7-copy-copy-copy-copy-copy-copy-6-copy-2-copy-3-copy-2/
CATEGORIES:Campbellford Events
END:VEVENT
BEGIN:VEVENT
DTSTART;TZID=UTC:20260226T130000
DTEND;TZID=UTC:20260226T130000
DTSTAMP:20260423T161431
CREATED:20260202T161659Z
LAST-MODIFIED:20260202T161659Z
UID:24253-1772110800-1772110800@trenthillslibrary.ca
SUMMARY:Campbellford Crochet & Knitting Club
DESCRIPTION:Knitters of all levels chat and share ideas every week at the Campbellford branch. Email brianne.hornsby@trenthills.ca for more info.
URL:https://trenthillslibrary.ca/event/soft-as-a-cloud-knitting-guild-5-5-6-4-5-4-4-5-5-5-5-2-5-5-2-4-2-2-5-2-4-6-5-2-5-4-4-6-5-9-6-6-7-5-2-3-5-5-4-8-5-4-5-copy-copy-copy-3-copy-copy-5-copy-copy-2-copy-copy-3-copy-copy-2-copy/
CATEGORIES:Campbellford Events
END:VEVENT
BEGIN:VEVENT
DTSTART;TZID=UTC:20260226T130000
DTEND;TZID=UTC:20260226T130000
DTSTAMP:20260423T161431
CREATED:20260302T163502Z
LAST-MODIFIED:20260302T163502Z
UID:24486-1772110800-1772110800@trenthillslibrary.ca
SUMMARY:Campbellford Crochet & Knitting Club
DESCRIPTION:Knitters of all levels chat and share ideas every week at the Campbellford branch. Email brianne.hornsby@trenthills.ca for more info.
URL:https://trenthillslibrary.ca/event/soft-as-a-cloud-knitting-guild-5-5-6-4-5-4-4-5-5-5-5-2-5-5-2-4-2-2-5-2-4-6-5-2-5-4-4-6-5-9-6-6-7-5-2-3-5-5-4-8-5-4-5-copy-copy-copy-3-copy-copy-5-copy-copy-2-copy-copy-3-copy-copy-2-copy-copy/
CATEGORIES:Campbellford Events
END:VEVENT
BEGIN:VEVENT
DTSTART;TZID=UTC:20260226T130000
DTEND;TZID=UTC:20260226T143000
DTSTAMP:20260423T161431
CREATED:20260202T164042Z
LAST-MODIFIED:20260202T164042Z
UID:24291-1772110800-1772116200@trenthillslibrary.ca
SUMMARY:Apple iPad & iPhone Workshops
DESCRIPTION:Technology help is here! For seniors and adults with little to no experience using iPhones and iPads. Please bring your device fully charged. Campbellford Branch. To register\, call 705-653-3611 or email graeme.peters@trenthills.ca
URL:https://trenthillslibrary.ca/event/ipad-iphone-workshops-copy-2-copy-copy-4-copy/
CATEGORIES:Campbellford Events
END:VEVENT
BEGIN:VEVENT
DTSTART;TZID=UTC:20260226T143000
DTEND;TZID=UTC:20260226T153000
DTSTAMP:20260423T161431
CREATED:20260202T162340Z
LAST-MODIFIED:20260202T162340Z
UID:24263-1772116200-1772119800@trenthillslibrary.ca
SUMMARY:Digital Drop In
DESCRIPTION:Every Thursday at the Campbellford branch\, drop in to get help with basic questions and problems with your phone\, tablet\, or laptop! Please bring your device. Phone ahead to book a 15-mminute session with Audrey\, Digital Basics Workshop Instructor: 416-457-1949
URL:https://trenthillslibrary.ca/event/author-spotlight-book-club-2-2-2-2-2-3-2-4-2-2-2-2-3-2-2-2-2-4-2-2-2-2-2-2-copy-copy-2-copy-copy-2-copy-copy-3-copy-2-copy-copy-copy-4-copy-3-copy-3/
CATEGORIES:Campbellford Events
END:VEVENT
END:VCALENDAR