BEGIN:VCALENDAR
VERSION:2.0
PRODID:-//Trent Hills Public Library - ECPv6.15.18//NONSGML v1.0//EN
CALSCALE:GREGORIAN
METHOD:PUBLISH
X-WR-CALNAME:Trent Hills Public Library
X-ORIGINAL-URL:https://trenthillslibrary.ca
X-WR-CALDESC:Events for Trent Hills Public Library
REFRESH-INTERVAL;VALUE=DURATION:PT1H
X-Robots-Tag:noindex
X-PUBLISHED-TTL:PT1H
BEGIN:VTIMEZONE
TZID:UTC
BEGIN:STANDARD
TZOFFSETFROM:+0000
TZOFFSETTO:+0000
TZNAME:UTC
DTSTART:20250101T000000
END:STANDARD
END:VTIMEZONE
BEGIN:VEVENT
DTSTART;TZID=UTC:20260211T140000
DTEND;TZID=UTC:20260311T140000
DTSTAMP:20260423T161610
CREATED:20260202T184429Z
LAST-MODIFIED:20260202T184429Z
UID:24345-1770818400-1773237600@trenthillslibrary.ca
SUMMARY:Author Spotlight Book Club
DESCRIPTION:Join this group of passionate readers in Campbellford as we dive deep into the works of one author each month. Email graeme.peters@trenthills.ca for more information and to register.
URL:https://trenthillslibrary.ca/event/author-spotlight-book-club-2-2-2-2-2-3-2-4-2-2-2-2-3-2-2-2-2-4-2-2-2-2-3-2-2-copy-copy-2-copy-copy-copy-copy-copy/
CATEGORIES:Campbellford Events
END:VEVENT
BEGIN:VEVENT
DTSTART;TZID=UTC:20260303T103000
DTEND;TZID=UTC:20260303T103000
DTSTAMP:20260423T161610
CREATED:20260302T150113Z
LAST-MODIFIED:20260302T150113Z
UID:24412-1772533800-1772533800@trenthillslibrary.ca
SUMMARY:Tots and Tykes
DESCRIPTION:Enjoy songs\, rhymes\, art\, and STEM activities at the Campbellford Branch. Ages: 1 and 2 year olds. Email hannah.doucette@trenthills.ca to register
URL:https://trenthillslibrary.ca/event/writers-group-2-5-5-6-5-4-5-4-6-4-5-5-6-5-4-2-4-5-4-5-5-5-5-4-5-5-5-5-7-2-4-5-5-2-3-7-4-copy-copy-3-copy-5-copy-4-copy-copy-copy-copy-copy-2-copy-copy-2-copy-3-copy/
CATEGORIES:Campbellford Events
END:VEVENT
BEGIN:VEVENT
DTSTART;TZID=UTC:20260303T120000
DTEND;TZID=UTC:20260303T120000
DTSTAMP:20260423T161610
CREATED:20260302T150415Z
LAST-MODIFIED:20260302T150415Z
UID:24414-1772539200-1772539200@trenthillslibrary.ca
SUMMARY:Baby and Me (Campbellford)
DESCRIPTION:Connect with other caregivers and help your baby develop their pre-literacy skills through songs\, books\, and more! To register in Campbellford email brianne.hornsby@trenthills.ca
URL:https://trenthillslibrary.ca/event/writers-group-2-5-5-6-5-4-5-4-6-4-5-5-6-5-4-2-4-5-4-5-5-5-5-4-5-5-5-5-7-2-4-5-5-2-3-7-4-copy-copy-3-copy-5-copy-4-copy-copy-copy-4-copy-2-copy-copy-2-copy-copy-copy-copy/
CATEGORIES:Campbellford Events
END:VEVENT
BEGIN:VEVENT
DTSTART;TZID=UTC:20260303T150000
DTEND;TZID=UTC:20260303T150000
DTSTAMP:20260423T161610
CREATED:20260302T151218Z
LAST-MODIFIED:20260302T151218Z
UID:24434-1772550000-1772550000@trenthillslibrary.ca
SUMMARY:Kaleidoscope
DESCRIPTION:Join Kaleidoscope in Campbellford – a creative\, supportive and safe space for 2SLGBTQ+ youth and seniors in Trent Hills. Featuring workshops in storytelling\, visual arts\, and mental wellness. Email trenthillspride@gmail.com to register
URL:https://trenthillslibrary.ca/event/kaleidoscope-copy-2-copy-copy-5/
CATEGORIES:Campbellford Events
END:VEVENT
END:VCALENDAR