BEGIN:VCALENDAR
VERSION:2.0
PRODID:-//Trent Hills Public Library - ECPv6.15.18//NONSGML v1.0//EN
CALSCALE:GREGORIAN
METHOD:PUBLISH
X-ORIGINAL-URL:https://trenthillslibrary.ca
X-WR-CALDESC:Events for Trent Hills Public Library
REFRESH-INTERVAL;VALUE=DURATION:PT1H
X-Robots-Tag:noindex
X-PUBLISHED-TTL:PT1H
BEGIN:VTIMEZONE
TZID:UTC
BEGIN:STANDARD
TZOFFSETFROM:+0000
TZOFFSETTO:+0000
TZNAME:UTC
DTSTART:20250101T000000
END:STANDARD
END:VTIMEZONE
BEGIN:VEVENT
DTSTART;TZID=UTC:20260211T140000
DTEND;TZID=UTC:20260311T140000
DTSTAMP:20260423T161730
CREATED:20260202T184429Z
LAST-MODIFIED:20260202T184429Z
UID:24345-1770818400-1773237600@trenthillslibrary.ca
SUMMARY:Author Spotlight Book Club
DESCRIPTION:Join this group of passionate readers in Campbellford as we dive deep into the works of one author each month. Email graeme.peters@trenthills.ca for more information and to register.
URL:https://trenthillslibrary.ca/event/author-spotlight-book-club-2-2-2-2-2-3-2-4-2-2-2-2-3-2-2-2-2-4-2-2-2-2-3-2-2-copy-copy-2-copy-copy-copy-copy-copy/
CATEGORIES:Campbellford Events
END:VEVENT
BEGIN:VEVENT
DTSTART;TZID=UTC:20260310T130000
DTEND;TZID=UTC:20260310T150000
DTSTAMP:20260423T161730
CREATED:20260302T151956Z
LAST-MODIFIED:20260302T151956Z
UID:24450-1773147600-1773154800@trenthillslibrary.ca
SUMMARY:Campbellford Scrabble Club
DESCRIPTION:Join us on the second and last Tuesday of every month in Campbellford for drop-in Scrabble fun – everyone welcome!
URL:https://trenthillslibrary.ca/event/campbellford-scrabble-club-copy-copy/
CATEGORIES:Campbellford Events
END:VEVENT
BEGIN:VEVENT
DTSTART;TZID=UTC:20260310T150000
DTEND;TZID=UTC:20260310T150000
DTSTAMP:20260423T161730
CREATED:20260302T151248Z
LAST-MODIFIED:20260302T151248Z
UID:24433-1773154800-1773154800@trenthillslibrary.ca
SUMMARY:Kaleidoscope
DESCRIPTION:Join Kaleidoscope in Campbellford – a creative\, supportive and safe space for 2SLGBTQ+ youth and seniors in Trent Hills. Featuring workshops in storytelling\, visual arts\, and mental wellness. Email trenthillspride@gmail.com to register
URL:https://trenthillslibrary.ca/event/kaleidoscope-copy-2-copy-copy-4/
CATEGORIES:Campbellford Events
END:VEVENT
END:VCALENDAR