BEGIN:VCALENDAR
VERSION:2.0
PRODID:-//Trent Hills Public Library - ECPv6.15.18//NONSGML v1.0//EN
CALSCALE:GREGORIAN
METHOD:PUBLISH
X-WR-CALNAME:Trent Hills Public Library
X-ORIGINAL-URL:https://trenthillslibrary.ca
X-WR-CALDESC:Events for Trent Hills Public Library
REFRESH-INTERVAL;VALUE=DURATION:PT1H
X-Robots-Tag:noindex
X-PUBLISHED-TTL:PT1H
BEGIN:VTIMEZONE
TZID:UTC
BEGIN:STANDARD
TZOFFSETFROM:+0000
TZOFFSETTO:+0000
TZNAME:UTC
DTSTART:20250101T000000
END:STANDARD
END:VTIMEZONE
BEGIN:VEVENT
DTSTART;TZID=UTC:20260131T103000
DTEND;TZID=UTC:20260131T113000
DTSTAMP:20260423T173702
CREATED:20260106T191848Z
LAST-MODIFIED:20260106T191848Z
UID:24110-1769855400-1769859000@trenthillslibrary.ca
SUMMARY:Tai Chi
DESCRIPTION:Join instructor Wilson Yip in Hastings and learn the Yang Style Tai Chi 8-Form. This beginner friendly sequence is suitable for all abilities. New 8 week session starting Jan 10. $40 for all 8 classes or $7 drop-in. Register with jennifermadden@trenthills.ca
URL:https://trenthillslibrary.ca/event/tai-chi-copy-3/
CATEGORIES:Hastings Events
END:VEVENT
END:VCALENDAR