BEGIN:VCALENDAR
VERSION:2.0
PRODID:-//Trent Hills Public Library - ECPv6.15.18//NONSGML v1.0//EN
CALSCALE:GREGORIAN
METHOD:PUBLISH
X-ORIGINAL-URL:https://trenthillslibrary.ca
X-WR-CALDESC:Events for Trent Hills Public Library
REFRESH-INTERVAL;VALUE=DURATION:PT1H
X-Robots-Tag:noindex
X-PUBLISHED-TTL:PT1H
BEGIN:VTIMEZONE
TZID:UTC
BEGIN:STANDARD
TZOFFSETFROM:+0000
TZOFFSETTO:+0000
TZNAME:UTC
DTSTART:20250101T000000
END:STANDARD
END:VTIMEZONE
BEGIN:VEVENT
DTSTART;TZID=UTC:20260303T120000
DTEND;TZID=UTC:20260303T120000
DTSTAMP:20260423T160703
CREATED:20260302T150534Z
LAST-MODIFIED:20260302T150534Z
UID:24416-1772539200-1772539200@trenthillslibrary.ca
SUMMARY:Baby and Me (Hastings)
DESCRIPTION:Connect with other caregivers and help your baby develop their pre-literacy skills through songs\, books\, and more! To register in Hastings email jennifer.madden@trenthills.ca
URL:https://trenthillslibrary.ca/event/writers-group-2-5-5-6-5-4-5-4-6-4-5-5-6-5-4-2-4-5-4-5-5-5-5-4-5-5-5-5-7-2-4-5-5-2-3-7-4-copy-copy-3-copy-5-copy-4-copy-copy-copy-4-copy-copy-4-copy-4-copy-3-copy-copy/
CATEGORIES:Hastings Events
END:VEVENT
END:VCALENDAR