BEGIN:VCALENDAR
VERSION:2.0
PRODID:-//Trent Hills Public Library - ECPv6.15.18//NONSGML v1.0//EN
CALSCALE:GREGORIAN
METHOD:PUBLISH
X-ORIGINAL-URL:https://trenthillslibrary.ca
X-WR-CALDESC:Events for Trent Hills Public Library
REFRESH-INTERVAL;VALUE=DURATION:PT1H
X-Robots-Tag:noindex
X-PUBLISHED-TTL:PT1H
BEGIN:VTIMEZONE
TZID:UTC
BEGIN:STANDARD
TZOFFSETFROM:+0000
TZOFFSETTO:+0000
TZNAME:UTC
DTSTART:20250101T000000
END:STANDARD
END:VTIMEZONE
BEGIN:VEVENT
DTSTART;TZID=UTC:20260306T133000
DTEND;TZID=UTC:20260306T163000
DTSTAMP:20260423T160641
CREATED:20260302T175731Z
LAST-MODIFIED:20260302T175731Z
UID:24520-1772803800-1772814600@trenthillslibrary.ca
SUMMARY:Hastings Art Club
DESCRIPTION:Join other art enthusiasts once a month in Hastings to work on projects together. Member driven. Bring your own supplies. Email jennifer.madden@trenthills.ca for more information.
URL:https://trenthillslibrary.ca/event/sound-bath-copy-copy-copy-4-copy-copy-copy-copy-copy/
CATEGORIES:Hastings Events
END:VEVENT
END:VCALENDAR