BEGIN:VCALENDAR
VERSION:2.0
PRODID:-//Trent Hills Public Library - ECPv6.15.18//NONSGML v1.0//EN
CALSCALE:GREGORIAN
METHOD:PUBLISH
X-WR-CALNAME:Trent Hills Public Library
X-ORIGINAL-URL:https://trenthillslibrary.ca
X-WR-CALDESC:Events for Trent Hills Public Library
REFRESH-INTERVAL;VALUE=DURATION:PT1H
X-Robots-Tag:noindex
X-PUBLISHED-TTL:PT1H
BEGIN:VTIMEZONE
TZID:UTC
BEGIN:STANDARD
TZOFFSETFROM:+0000
TZOFFSETTO:+0000
TZNAME:UTC
DTSTART:20250101T000000
END:STANDARD
END:VTIMEZONE
BEGIN:VEVENT
DTSTART;TZID=UTC:20260124T110000
DTEND;TZID=UTC:20260124T110000
DTSTAMP:20260424T112539
CREATED:20260106T194907Z
LAST-MODIFIED:20260106T194907Z
UID:24132-1769252400-1769252400@trenthillslibrary.ca
SUMMARY:Kid's Author Reading: OYM and the Moonlit Adventure
DESCRIPTION:Join the author for a special reading of this new book that celebrates community and recognizes FASD awareness. Warkworth Library. To register\, email Patrick at warkworthlibrary@trenthills.ca
URL:https://trenthillslibrary.ca/event/kids-author-reading-oym-and-the-moonlit-adventure/
CATEGORIES:Warkworth Events
END:VEVENT
BEGIN:VEVENT
DTSTART;TZID=UTC:20260127T103000
DTEND;TZID=UTC:20260127T103000
DTSTAMP:20260424T112539
CREATED:20260106T130637Z
LAST-MODIFIED:20260106T130637Z
UID:23959-1769509800-1769509800@trenthillslibrary.ca
SUMMARY:Warkworth Storytime for Ages 2-6
DESCRIPTION:Come join Amanda in Warkworth for a fun program of crafts\, stories and free play. A great chance to get together with other toddlers and caregivers and intoduce your child to the library! Email warkworthlibrary@trenthills.ca to register\, drop-ins always welcome!
URL:https://trenthillslibrary.ca/event/warkworth-preschool-storytime-4-3-5-8-3-5-5-2-4-6-2-2-4-2-5-4-2-3-4-5-5-6-2-4-2-4-3-3-2-4-5-4-5-5-5-2-5-copy-copy-6-copy-copy-7-copy-copy-3-copy-copy-4-copy-5-copy-4/
CATEGORIES:Warkworth Events
END:VEVENT
BEGIN:VEVENT
DTSTART;TZID=UTC:20260127T130000
DTEND;TZID=UTC:20260127T150000
DTSTAMP:20260424T112539
CREATED:20260106T135955Z
LAST-MODIFIED:20260106T135955Z
UID:23992-1769518800-1769526000@trenthillslibrary.ca
SUMMARY:Soft as A Cloud Knitting Guild
DESCRIPTION:This group meets weekly in Warkworth and enjoys the social nature of knitting while sharing ideas\, projects and patterns.
URL:https://trenthillslibrary.ca/event/soft-as-a-cloud-knitting-guild-5-5-6-4-5-4-4-5-5-5-5-2-5-5-2-4-2-2-5-2-4-6-5-5-5-5-5-6-6-5-6-5-5-6-5-4-5-5-5-6-copy-2-copy-2-copy-3-copy-3-copy-copy-5-copy-6-copy-2-copy-3/
CATEGORIES:Warkworth Events
END:VEVENT
BEGIN:VEVENT
DTSTART;TZID=UTC:20260127T190000
DTEND;TZID=UTC:20260127T210000
DTSTAMP:20260424T112539
CREATED:20260106T141030Z
LAST-MODIFIED:20260106T141030Z
UID:24009-1769540400-1769547600@trenthillslibrary.ca
SUMMARY:Trent Hills Chess Club
DESCRIPTION:Join local chess enthusiasts at the Warkworth Library on Tuesday nights for friendly games for players of all skill levels. To find out more information\, check out the Trent Hills Chess Club Facebook page.
URL:https://trenthillslibrary.ca/event/campbellford-baby-me-5-2-3-3-4-3-2-4-2-6-4-2-4-6-6-3-5-2-2-2-4-6-5-5-6-5-5-6-5-4-5-5-5-6-copy-copy-4-copy-2-copy-2-copy-3-copy-4-copy-2-copy-2-copy-2/
CATEGORIES:Warkworth Events
END:VEVENT
BEGIN:VEVENT
DTSTART;TZID=UTC:20260128T170000
DTEND;TZID=UTC:20260128T183000
DTSTAMP:20260424T112539
CREATED:20260106T143040Z
LAST-MODIFIED:20260106T143040Z
UID:24040-1769619600-1769625000@trenthillslibrary.ca
SUMMARY:Warkworth Crochet Club
DESCRIPTION:Our crochet enthusiasts meet weekly in Warkworth to share projects\, ideas and to enjoy chatting – sometimes even about crochet!
URL:https://trenthillslibrary.ca/event/warkworth-crochet-club-7-4-6-4-6-6-2-7-5-6-5-6-8-8-2-5-2-4-5-6-5-7-3-5-2-4-6-9-7-5-5-7-2-2-2-2-3-6-6-6-8-copy-copy-3-copy-copy-copy-copy-copy-6-copy-2-copy-2/
CATEGORIES:Warkworth Events
END:VEVENT
END:VCALENDAR