BEGIN:VCALENDAR
VERSION:2.0
PRODID:-//Trent Hills Public Library - ECPv6.15.18//NONSGML v1.0//EN
CALSCALE:GREGORIAN
METHOD:PUBLISH
X-ORIGINAL-URL:https://trenthillslibrary.ca
X-WR-CALDESC:Events for Trent Hills Public Library
REFRESH-INTERVAL;VALUE=DURATION:PT1H
X-Robots-Tag:noindex
X-PUBLISHED-TTL:PT1H
BEGIN:VTIMEZONE
TZID:UTC
BEGIN:STANDARD
TZOFFSETFROM:+0000
TZOFFSETTO:+0000
TZNAME:UTC
DTSTART:20250101T000000
END:STANDARD
END:VTIMEZONE
BEGIN:VEVENT
DTSTART;TZID=UTC:20260213T130000
DTEND;TZID=UTC:20260213T130000
DTSTAMP:20260424T112728
CREATED:20260202T190928Z
LAST-MODIFIED:20260202T190928Z
UID:24352-1770987600-1770987600@trenthillslibrary.ca
SUMMARY:Baby Footprint Valentine Keepsake Cards
DESCRIPTION:Join Lydia Grendon in Warkworth for a fun and simple craft where you can make 2 keepsake valentine cards with your baby’s footprints. $10 includes all materials BYOB (bring your own baby). Email Patrick at warkworthlibrary@trenthills.ca to reserve your spot(s).
URL:https://trenthillslibrary.ca/event/watercolour-holiday-cards-copy-2/
CATEGORIES:Warkworth Events
END:VEVENT
BEGIN:VEVENT
DTSTART;TZID=UTC:20260213T140000
DTEND;TZID=UTC:20260213T140000
DTSTAMP:20260424T112728
CREATED:20260202T183247Z
LAST-MODIFIED:20260202T183247Z
UID:24341-1770991200-1770991200@trenthillslibrary.ca
SUMMARY:Trent Hills Play Reading Group
DESCRIPTION:Join a group of drama enthusiasts in Warkworth to read and discuss plays! For more information\, email Patrick at warkworthlibrary@trenthills.ca
URL:https://trenthillslibrary.ca/event/trent-hills-play-reading-group-2-copy-copy-copy-2-copy-2-copy-copy/
CATEGORIES:Warkworth Events
END:VEVENT
END:VCALENDAR