BEGIN:VCALENDAR
VERSION:2.0
PRODID:-//Trent Hills Public Library - ECPv6.15.18//NONSGML v1.0//EN
CALSCALE:GREGORIAN
METHOD:PUBLISH
X-ORIGINAL-URL:https://trenthillslibrary.ca
X-WR-CALDESC:Events for Trent Hills Public Library
REFRESH-INTERVAL;VALUE=DURATION:PT1H
X-Robots-Tag:noindex
X-PUBLISHED-TTL:PT1H
BEGIN:VTIMEZONE
TZID:UTC
BEGIN:STANDARD
TZOFFSETFROM:+0000
TZOFFSETTO:+0000
TZNAME:UTC
DTSTART:20250101T000000
END:STANDARD
END:VTIMEZONE
BEGIN:VEVENT
DTSTART;TZID=UTC:20260214T100000
DTEND;TZID=UTC:20260214T130000
DTSTAMP:20260424T131822
CREATED:20260202T184127Z
LAST-MODIFIED:20260202T184127Z
UID:24343-1771063200-1771074000@trenthillslibrary.ca
SUMMARY:Watercolour Drop-In
DESCRIPTION:Join fellow watercolour painting enthusiasts in Warkworth for an informal paint and chat. Bring your own materials and enjoy our positive enviroment while you paint together! Free to attend\, email Patrick at warkworthlibrary@trenthills.ca to reserve your spot(s).
URL:https://trenthillslibrary.ca/event/watercolour-holiday-cards-copy/
CATEGORIES:Warkworth Events
END:VEVENT
END:VCALENDAR