BEGIN:VCALENDAR
VERSION:2.0
PRODID:-//Trent Hills Public Library - ECPv6.15.18//NONSGML v1.0//EN
CALSCALE:GREGORIAN
METHOD:PUBLISH
X-ORIGINAL-URL:https://trenthillslibrary.ca
X-WR-CALDESC:Events for Trent Hills Public Library
REFRESH-INTERVAL;VALUE=DURATION:PT1H
X-Robots-Tag:noindex
X-PUBLISHED-TTL:PT1H
BEGIN:VTIMEZONE
TZID:UTC
BEGIN:STANDARD
TZOFFSETFROM:+0000
TZOFFSETTO:+0000
TZNAME:UTC
DTSTART:20250101T000000
END:STANDARD
END:VTIMEZONE
BEGIN:VEVENT
DTSTART;TZID=UTC:20260225T170000
DTEND;TZID=UTC:20260225T183000
DTSTAMP:20260424T094748
CREATED:20260202T160140Z
LAST-MODIFIED:20260202T160140Z
UID:24237-1772038800-1772044200@trenthillslibrary.ca
SUMMARY:Warkworth Crochet Club
DESCRIPTION:Our crochet enthusiasts meet weekly in Warkworth to share projects\, ideas and to enjoy chatting – sometimes even about crochet!
URL:https://trenthillslibrary.ca/event/warkworth-crochet-club-7-4-6-4-6-6-2-7-5-6-5-6-8-8-2-5-2-4-5-6-5-7-3-5-2-4-6-9-7-5-5-7-2-2-2-2-3-6-6-6-8-copy-copy-3-copy-copy-copy-copy-copy-6-copy-2-copy-2-copy/
CATEGORIES:Warkworth Events
END:VEVENT
END:VCALENDAR