BEGIN:VCALENDAR
VERSION:2.0
PRODID:-//Trent Hills Public Library - ECPv6.15.18//NONSGML v1.0//EN
CALSCALE:GREGORIAN
METHOD:PUBLISH
X-WR-CALNAME:Trent Hills Public Library
X-ORIGINAL-URL:https://trenthillslibrary.ca
X-WR-CALDESC:Events for Trent Hills Public Library
REFRESH-INTERVAL;VALUE=DURATION:PT1H
X-Robots-Tag:noindex
X-PUBLISHED-TTL:PT1H
BEGIN:VTIMEZONE
TZID:UTC
BEGIN:STANDARD
TZOFFSETFROM:+0000
TZOFFSETTO:+0000
TZNAME:UTC
DTSTART:20250101T000000
END:STANDARD
END:VTIMEZONE
BEGIN:VEVENT
DTSTART;TZID=UTC:20260126T130000
DTEND;TZID=UTC:20260126T150000
DTSTAMP:20260424T142041
CREATED:20260106T130345Z
LAST-MODIFIED:20260106T130345Z
UID:23950-1769432400-1769439600@trenthillslibrary.ca
SUMMARY:Campbellford Writers' Group
DESCRIPTION:Calling all writers – join us at the Campbellford branch! Email Mary Lou for details at MaryLou.Dumka@trenthills.ca
URL:https://trenthillslibrary.ca/event/writers-group-2-5-5-6-5-4-5-4-6-4-5-5-6-5-4-2-4-5-4-5-5-5-5-4-5-5-5-5-7-2-4-5-5-2-3-7-4-copy-copy-3-copy-5-copy-4-copy-copy-2-copy-2-copy-2-copy-2/
CATEGORIES:Campbellford Events
END:VEVENT
BEGIN:VEVENT
DTSTART;TZID=UTC:20260124T110000
DTEND;TZID=UTC:20260124T110000
DTSTAMP:20260424T142041
CREATED:20260106T194907Z
LAST-MODIFIED:20260106T194907Z
UID:24132-1769252400-1769252400@trenthillslibrary.ca
SUMMARY:Kid's Author Reading: OYM and the Moonlit Adventure
DESCRIPTION:Join the author for a special reading of this new book that celebrates community and recognizes FASD awareness. Warkworth Library. To register\, email Patrick at warkworthlibrary@trenthills.ca
URL:https://trenthillslibrary.ca/event/kids-author-reading-oym-and-the-moonlit-adventure/
CATEGORIES:Warkworth Events
END:VEVENT
BEGIN:VEVENT
DTSTART;TZID=UTC:20260124T103000
DTEND;TZID=UTC:20260124T113000
DTSTAMP:20260424T142041
CREATED:20260106T191820Z
LAST-MODIFIED:20260106T191820Z
UID:24109-1769250600-1769254200@trenthillslibrary.ca
SUMMARY:Tai Chi
DESCRIPTION:Join instructor Wilson Yip in Hastings and learn the Yang Style Tai Chi 8-Form. This beginner friendly sequence is suitable for all abilities. New 8 week session starting Jan 10. $40 for all 8 classes or $7 drop-in. Register with jennifermadden@trenthills.ca
URL:https://trenthillslibrary.ca/event/tai-chi-copy-2/
CATEGORIES:Hastings Events
END:VEVENT
BEGIN:VEVENT
DTSTART;TZID=UTC:20260114T140000
DTEND;TZID=UTC:20260211T140000
DTSTAMP:20260424T142041
CREATED:20260106T193332Z
LAST-MODIFIED:20260106T193332Z
UID:24122-1768399200-1770818400@trenthillslibrary.ca
SUMMARY:Author Spotlight Book Club
DESCRIPTION:Join this group of passionate readers in Campbellford as we dive deep into the works of one author each month. Email graeme.peters@trenthills.ca for more information and to register.
URL:https://trenthillslibrary.ca/event/author-spotlight-book-club-2-2-2-2-2-3-2-4-2-2-2-2-3-2-2-2-2-4-2-2-2-2-3-2-2-copy-copy-2-copy-copy-copy-copy/
CATEGORIES:Campbellford Events
END:VEVENT
END:VCALENDAR